BEGIN:VCALENDAR
VERSION:2.0
PRODID:-//Ozarks Technical Community College - ECPv6.15.18//NONSGML v1.0//EN
CALSCALE:GREGORIAN
METHOD:PUBLISH
X-WR-CALNAME:Ozarks Technical Community College
X-ORIGINAL-URL:https://ozarkstech.edu
X-WR-CALDESC:Events for Ozarks Technical Community College
REFRESH-INTERVAL;VALUE=DURATION:PT1H
X-Robots-Tag:noindex
X-PUBLISHED-TTL:PT1H
BEGIN:VTIMEZONE
TZID:UTC
BEGIN:STANDARD
TZOFFSETFROM:+0000
TZOFFSETTO:+0000
TZNAME:UTC
DTSTART:20250101T000000
END:STANDARD
END:VTIMEZONE
BEGIN:VEVENT
DTSTART;TZID=UTC:20260416T110000
DTEND;TZID=UTC:20260416T130000
DTSTAMP:20260421T183631
CREATED:20260306T171601Z
LAST-MODIFIED:20260306T171601Z
UID:10000787-1776337200-1776344400@ozarkstech.edu
SUMMARY:Spring Picnic: Republic Center
DESCRIPTION:The semi-annual picnic is a celebration of our students and the Ozarks Tech community! \nExplore how each Ozarks Tech location adds its unique twist to this event\, held every fall and spring. Wherever you are\, we’ve tailored something just for you: FREE food\, engaging games\, raffles & giveaways\, local business vendors\, a dance party with Ozzy\, department booths\, campus club booths\, and more!
URL:https://ozarkstech.edu/college-calendar/spring-picnic-republic-center-2/
LOCATION:‘-OTC Republic Center\, 584 US-60\, Republic\, 65738
CATEGORIES:Student Events
ORGANIZER;CN="Student Engagement":MAILTO:engagement@otc.edu
GEO:37.1101859;-93.4891925
X-APPLE-STRUCTURED-LOCATION;VALUE=URI;X-ADDRESS=‘-OTC Republic Center 584 US-60 Republic 65738;X-APPLE-RADIUS=500;X-TITLE=584 US-60:geo:-93.4891925,37.1101859
END:VEVENT
END:VCALENDAR