BEGIN:VCALENDAR
VERSION:2.0
PRODID:-//Ozarks Technical Community College - ECPv6.15.18//NONSGML v1.0//EN
CALSCALE:GREGORIAN
METHOD:PUBLISH
X-ORIGINAL-URL:https://ozarkstech.edu
X-WR-CALDESC:Events for Ozarks Technical Community College
REFRESH-INTERVAL;VALUE=DURATION:PT1H
X-Robots-Tag:noindex
X-PUBLISHED-TTL:PT1H
BEGIN:VTIMEZONE
TZID:UTC
BEGIN:STANDARD
TZOFFSETFROM:+0000
TZOFFSETTO:+0000
TZNAME:UTC
DTSTART:20250101T000000
END:STANDARD
END:VTIMEZONE
BEGIN:VEVENT
DTSTART;TZID=UTC:20260403T200000
DTEND;TZID=UTC:20260403T220000
DTSTAMP:20260421T180116
CREATED:20260306T173301Z
LAST-MODIFIED:20260403T141503Z
UID:10000790-1775246400-1775253600@ozarkstech.edu
SUMMARY:Stars\, S'mores\, and Strolls - CANCELLED
DESCRIPTION:THIS EVENT HAS BEEN CANCELLED DUE TO WEATHER. \nCelebrate spring with an evening at Lost Hill Park on Friday\, April 3\, starting at 8 PM! \n⭐ Explore the night sky while Stargazing with the Springfield Astronomical Society\n⭐ Get close to nature with a guided night nature walk with Springfield Parks\n⭐ Fill up on s’mores around a cozy campfire between activities \nThis event is FREE for all students and their guests. Advanced RSVP is required. Students are encouraged to bring lawn chairs and/or blankets.
URL:https://ozarkstech.edu/college-calendar/stars-smores-and-strolls-rsvp-required/
LOCATION:Lost Hill Park\, 4705 N Farm Rd 151\, Springfield\, MO\, 65803\, United States
CATEGORIES:Student Events
ATTACH;FMTTYPE=image/webp:https://ozarkstech.edu/wp-content/uploads/2026/03/Stargazing-5x5_MICHA-WHITE.webp
ORGANIZER;CN="Student Engagement":MAILTO:engagement@otc.edu
END:VEVENT
END:VCALENDAR